3.27651819897964
0.00000000000000
0.00000000000000
-3.27651819897964
717187.39165557420000
4755538.41847917440000
